BEGIN:VCALENDAR
VERSION:1.0
PRODID:Open2CKalenderExportV11
BEGIN:VEVENT
DTSTAMP:20250219T142158Z
DTSTART:20250409T193000Z
DTEND:20250409T210000Z
SUMMARY:Pädagogischer Elternvortrag von Dipl. Päd. D. Träbert
DESCRIPTION:Selber tun macht tüchtig! So fördern wir die Selbstständigkeit unserer Kinder. | Referent: Dipl. Päd. Detlef Träbert | Ort: Aula der Grundschule
LOCATION:
UID:fd80e965aecefb0171908b7b94133a9c-a15aa811638d2d7b310cccefd47b4280
PRIORITY:3
END:VEVENT
END:VCALENDAR
