BEGIN:VCALENDAR
VERSION:1.0
PRODID:Open2CKalenderExportV11
BEGIN:VEVENT
DTSTAMP:20250404T104631Z
DTSTART:20250530T000000Z
DTEND:20250530T000000Z
SUMMARY:Schulfest
DESCRIPTION:Schulfest am Nachmittag an der Schule
LOCATION:
UID:ac498448671528a4cc4b84bf82bc73e0-aba5bff2d9153d9c8f88b8a678d51f14
PRIORITY:3
END:VEVENT
END:VCALENDAR
