BEGIN:VCALENDAR
VERSION:1.0
PRODID:Open2CKalenderExportV11
BEGIN:VEVENT
DTSTAMP:20230128T135852Z
DTSTART:20230213T193000Z
DTEND:20230213T210000Z
SUMMARY:Elternabend für die zukünftigen Erstklässler
DESCRIPTION:Elternabend für die zukünftigen Erstklässler
LOCATION:
UID:1bd45a3622783b2c47c2d485e470fe72-4fdb8bac5e3331e930e9e5ce86c33ddd
PRIORITY:3
END:VEVENT
BEGIN:VEVENT
DTSTAMP:20230128T140944Z
DTSTART:20230216T080000Z
DTEND:20230216T120000Z
SUMMARY:Bücherei
DESCRIPTION:Bücherei
LOCATION:
UID:2a30c5e9aaa6fc2192a0a6edbfbbe9d0-239bc2f0de09b5aa3b6241c1388c989f
PRIORITY:3
END:VEVENT
BEGIN:VEVENT
DTSTAMP:20230128T141728Z
DTSTART:20230217T100000Z
DTEND:20230217T113000Z
SUMMARY:Ruassiger Freitag - Fasching in der Schule
DESCRIPTION:Ruassiger Freitag - Fasching in der Schule
LOCATION:
UID:a55bd42b75e33491f23b03366702ac32-13a2158b38a73a7ebb48aa04ef63a3db
PRIORITY:3
END:VEVENT
END:VCALENDAR
